BEGIN:VCALENDAR
VERSION:2.0
PRODID:icalendar-ruby
CALSCALE:GREGORIAN
METHOD:PUBLISH
BEGIN:VEVENT
DTSTAMP:20260422T131549Z
UID:9-613002@afph29510.org
DTSTART:20260916T220000Z
DTEND:20260916T233000Z
CLASS:PUBLIC
CREATED:20260422T083801
DESCRIPTION:Royal Rangers (Boys)\nDaughters of the King (Girls)
LAST-MODIFIED:20260422T083801
LOCATION:Life Center
SUMMARY:Youth Ministries
URL;VALUE=URI:https://www.afph29510.org/events/youth-ministries/2026-09-16
ATTACH;FILENAME=IMG_5432.jpeg;FMTTYPE=image/jpeg:https://dq5pwpg1q8ru0.clou
 dfront.net/2025/08/06/21/15/40/63fd471f-c213-4afc-8951-37d52a539345/IMG_54
 32.jpeg
END:VEVENT
END:VCALENDAR
