BEGIN:VCALENDAR
VERSION:2.0
PRODID:icalendar-ruby
CALSCALE:GREGORIAN
METHOD:PUBLISH
BEGIN:VEVENT
DTSTAMP:20260422T094121Z
UID:10-612496@afph29510.org
DTSTART:20260802T140000Z
DTEND:20260802T144500Z
CLASS:PUBLIC
CREATED:20260421T213010
DESCRIPTION:Classes for ALL Ages!
LAST-MODIFIED:20260421T213010
LOCATION:Multiple Rooms
SUMMARY:Sunday School
URL;VALUE=URI:https://www.afph29510.org/events/sunday-school/2026-08-02
ATTACH;FILENAME=FzLU4.jpg;FMTTYPE=image/jpeg:https://dq5pwpg1q8ru0.cloudfro
 nt.net/2025/08/06/21/19/21/0de4c655-180e-4ff3-96b9-bcc6fb6a70fd/FzLU4.jpg
END:VEVENT
END:VCALENDAR
