BEGIN:VCALENDAR
VERSION:2.0
PRODID:icalendar-ruby
CALSCALE:GREGORIAN
METHOD:PUBLISH
BEGIN:VEVENT
DTSTAMP:20260421T093347Z
UID:22-459661@afph29510.org
DTSTART:20260419T170000Z
DTEND:20260421T180000Z
CLASS:PUBLIC
CREATED:20260306T122507
DESCRIPTION:A Dramatic presentation of where we will spend eternity\, Heave
 n or Hell? Our choices in this life affect where we spend eternity in the 
 next life. Accept Jesus as your Savior!
LAST-MODIFIED:20260306T122507
LOCATION:
SUMMARY:Heaven's Gates and Hell's Flames
URL;VALUE=URI:https://www.afph29510.org/events/heavens-gates-and-hells-flam
 es/2026-04-19
ATTACH;FILENAME=phonto.jpeg;FMTTYPE=image/jpeg:https://dq5pwpg1q8ru0.cloudf
 ront.net/2026/03/06/17/25/06/41e4f01a-a02c-4409-8865-14401c153561/phonto.j
 peg
END:VEVENT
END:VCALENDAR
