BEGIN:VCALENDAR
VERSION:2.0
PRODID:icalendar-ruby
CALSCALE:GREGORIAN
METHOD:PUBLISH
BEGIN:VEVENT
DTSTAMP:20260422T220348Z
UID:8-614630@afph29510.org
DTSTART:20260927T220000Z
DTEND:20260928T000000Z
CLASS:PUBLIC
CREATED:20260422T172315
DESCRIPTION:
LAST-MODIFIED:20260422T172315
LOCATION:Life Center
SUMMARY:Amplified Student Ministries
URL;VALUE=URI:https://www.afph29510.org/events/amplified-student-ministries
 /2026-09-27
ATTACH;FILENAME=IMG_8235.jpeg;FMTTYPE=image/jpeg:https://dq5pwpg1q8ru0.clou
 dfront.net/2025/08/06/21/12/45/0709f9fb-d97d-4e5a-8f6c-0dc512823622/IMG_82
 35.jpeg
END:VEVENT
END:VCALENDAR
