BEGIN:VCALENDAR
VERSION:2.0
PRODID:icalendar-ruby
CALSCALE:GREGORIAN
METHOD:PUBLISH
BEGIN:VEVENT
DTSTAMP:20260421T000740Z
UID:7-608364@afph29510.org
DTSTART:20261014T220000Z
DTEND:20261014T230000Z
CLASS:PUBLIC
CREATED:20260420T184001
DESCRIPTION:Join the adults in the sanctuary as we study the Bible book by 
 book and verse by verse!
LAST-MODIFIED:20260420T184001
LOCATION:Church Sanctuary
SUMMARY:Adult Bible Study
URL;VALUE=URI:https://www.afph29510.org/events/adult-bible-study/2026-10-14
ATTACH;FILENAME=phonto.png;FMTTYPE=image/png:https://dq5pwpg1q8ru0.cloudfro
 nt.net/2025/08/06/21/16/37/5cb44d65-81e9-4a4f-82fe-320d4394cfe3/phonto.png
END:VEVENT
END:VCALENDAR
